BEGIN:VCALENDAR
VERSION:2.0
PRODID:-//ChamberMaster//Event Calendar 2.0//EN
METHOD:PUBLISH
X-PUBLISHED-TTL:P3D
REFRESH-INTERVAL:P3D
CALSCALE:GREGORIAN
BEGIN:VEVENT
DTSTART;VALUE=DATE:20240622
DTEND;VALUE=DATE:20240623
TRANSP:TRANSPARENT
X-MICROSOFT-CDO-ALLDAYEVENT:TRUE
SUMMARY:West Branch Bike Bash
DESCRIPTION:Bike Show and Stunt Show
X-ALT-DESC;FMTTYPE=text/html:Bike Show and Stunt Show
LOCATION:The Ogemaw County Fairgrounds 2300 Rifle River Trail\, West Branch\, Michigan
UID:e.1573.28034
SEQUENCE:3
DTSTAMP:20260419T180738Z
URL:https://www.wbacc.com/events/details/west-branch-bike-bash-28034
END:VEVENT

END:VCALENDAR
