BEGIN:VCALENDAR
VERSION:2.0
PRODID:-//ChamberMaster//Event Calendar 2.0//EN
METHOD:PUBLISH
X-PUBLISHED-TTL:P3D
REFRESH-INTERVAL:P3D
CALSCALE:GREGORIAN
BEGIN:VEVENT
DTSTART:20150805T160000Z
DTEND:20150805T190000Z
X-MICROSOFT-CDO-ALLDAYEVENT:FALSE
SUMMARY:Tolfree Foundation
DESCRIPTION:Join us for Lemonade Dessert
X-ALT-DESC;FMTTYPE=text/html:Join us for Lemonade Dessert
LOCATION:Living Well 318 W. Houghton Ave. West Branch
UID:e.1573.4521
SEQUENCE:3
DTSTAMP:20260420T231926Z
URL:https://www.wbacc.com/events/details/tolfree-foundation-08-05-2015-4521
END:VEVENT

END:VCALENDAR
