BEGIN:VCALENDAR
VERSION:2.0
PRODID:-//ChamberMaster//Event Calendar 2.0//EN
METHOD:PUBLISH
X-PUBLISHED-TTL:P3D
REFRESH-INTERVAL:P3D
CALSCALE:GREGORIAN
BEGIN:VEVENT
DTSTART:20230726T143000Z
DTEND:20230726T150000Z
X-MICROSOFT-CDO-ALLDAYEVENT:FALSE
SUMMARY:Summer Reading Program 2023-Working Together
DESCRIPTION:The Ogemaw District Library's summer reading program will begin July 10th and run through Aug. 3rd. Each branch will hold a themed event once a week. There will be an activity\, book\, and craft that goes along with the theme. \n\n\n\nTheme-Working Together
X-ALT-DESC;FMTTYPE=text/html:<span style="background-color:rgb(255\, 255\, 255)\; color:rgb(51\, 51\, 51)\; font-family:sans-serif\,arial\,verdana\,trebuchet ms\; font-size:13px">The Ogemaw District Library&#39\;s summer reading program will begin July 10th and run through Aug. 3rd. Each branch will hold a themed event once a week. There will be an activity\, book\, and craft that goes along with the theme.&nbsp\;<br />\n<br />\nTheme-Working Together</span>
LOCATION:Ogemaw District Library\, 107 W Main St\, Rose City\, MI 48654
UID:e.1573.23343
SEQUENCE:3
DTSTAMP:20260425T112751Z
URL:https://www.wbacc.com/events/details/summer-reading-program-2023-working-together-23343
END:VEVENT

END:VCALENDAR
