BEGIN:VCALENDAR
VERSION:2.0
PRODID:-//ChamberMaster//Event Calendar 2.0//EN
METHOD:PUBLISH
X-PUBLISHED-TTL:P3D
REFRESH-INTERVAL:P3D
CALSCALE:GREGORIAN
BEGIN:VEVENT
DTSTART:20230719T143000Z
DTEND:20230719T160000Z
X-MICROSOFT-CDO-ALLDAYEVENT:FALSE
SUMMARY:Summer Reading Program 2023-Peace Love and Rock n Roll
DESCRIPTION:The Ogemaw District Library's summer reading program will begin July 10th and run through Aug. 3rd. Each branch will hold a themed event once a week. There will be an activity\, book\, and craft that goes along with the theme.
X-ALT-DESC;FMTTYPE=text/html:The Ogemaw District Library&#39\;s summer reading program will begin July 10th and run through Aug. 3rd. Each branch will hold a themed event once a week. There will be an activity\, book\, and craft that goes along with the theme.&nbsp\;
LOCATION:Ogemaw District Library\, 107 W Main St\, Rose City\, MI 48654
UID:e.1573.23345
SEQUENCE:3
DTSTAMP:20260425T112817Z
URL:https://www.wbacc.com/events/details/summer-reading-program-2023-peace-love-and-rock-n-roll-23345
END:VEVENT

END:VCALENDAR
