BEGIN:VCALENDAR
VERSION:2.0
PRODID:-//ChamberMaster//Event Calendar 2.0//EN
METHOD:PUBLISH
X-PUBLISHED-TTL:P3D
REFRESH-INTERVAL:P3D
CALSCALE:GREGORIAN
BEGIN:VEVENT
DTSTART:20130307T210000Z
DTEND:20130308T000000Z
X-MICROSOFT-CDO-ALLDAYEVENT:FALSE
SUMMARY:Pierogi & Kielbasa Dinner
DESCRIPTION:Pierogi & Kielbasa Dinner
X-ALT-DESC;FMTTYPE=text/html:Pierogi&nbsp\;&amp\; Kielbasa Dinner
LOCATION:Holy Family Parish Hall 402 W. Peters Rd. West Branch\, MI
UID:e.1573.1229
SEQUENCE:3
DTSTAMP:20260421T015829Z
URL:https://www.wbacc.com/events/details/pierogi-kielbasa-dinner-03-07-2013-1229
END:VEVENT

END:VCALENDAR
