BEGIN:VCALENDAR
VERSION:2.0
PRODID:-//ChamberMaster//Event Calendar 2.0//EN
METHOD:PUBLISH
X-PUBLISHED-TTL:P3D
REFRESH-INTERVAL:P3D
CALSCALE:GREGORIAN
BEGIN:VEVENT
DTSTART:20230727T230000Z
DTEND:20230728T010000Z
X-MICROSOFT-CDO-ALLDAYEVENT:FALSE
SUMMARY:Music in the Park: The Brenda Loomis Band
DESCRIPTION:Music in the Park: The Brenda Loomis Band (Country)
X-ALT-DESC;FMTTYPE=text/html:Music in the Park: The Brenda Loomis Band (Country)
LOCATION:Irons Park in West Branch Michigan
UID:e.1573.23103
SEQUENCE:3
DTSTAMP:20260425T113200Z
URL:https://www.wbacc.com/events/details/music-in-the-park-the-brenda-loomis-band-23103
END:VEVENT

END:VCALENDAR
