BEGIN:VCALENDAR
VERSION:2.0
PRODID:-//ChamberMaster//Event Calendar 2.0//EN
METHOD:PUBLISH
X-PUBLISHED-TTL:P3D
REFRESH-INTERVAL:P3D
CALSCALE:GREGORIAN
BEGIN:VEVENT
DTSTART:20230713T230000Z
DTEND:20230714T010000Z
X-MICROSOFT-CDO-ALLDAYEVENT:FALSE
SUMMARY:Music in the Park: Terry Lee Goffee- A Johnny Cash Tribute
DESCRIPTION:Music in the Park: Terry Lee Goffee- A Johnny Cash Tribute
X-ALT-DESC;FMTTYPE=text/html:Music in the Park: Terry Lee Goffee- A Johnny Cash Tribute
LOCATION:Irons Park in West Branch Michigan
UID:e.1573.23101
SEQUENCE:3
DTSTAMP:20260425T113902Z
URL:https://www.wbacc.com/events/details/music-in-the-park-terry-lee-goffee-a-johnny-cash-tribute-23101
END:VEVENT

END:VCALENDAR
