BEGIN:VCALENDAR
VERSION:2.0
PRODID:-//ChamberMaster//Event Calendar 2.0//EN
METHOD:PUBLISH
X-PUBLISHED-TTL:P3D
REFRESH-INTERVAL:P3D
CALSCALE:GREGORIAN
BEGIN:VEVENT
DTSTART:20230706T230000Z
DTEND:20230707T010000Z
X-MICROSOFT-CDO-ALLDAYEVENT:FALSE
SUMMARY:Music in the Park: Shout- A Beatles Tribute
DESCRIPTION:Music in the Park: Shout- A Beatles Tribute
X-ALT-DESC;FMTTYPE=text/html:Music in the Park: Shout- A Beatles Tribute
LOCATION:Irons Park of West Branch Michigan
UID:e.1573.23100
SEQUENCE:3
DTSTAMP:20260425T113230Z
URL:https://www.wbacc.com/events/details/music-in-the-park-shout-a-beatles-tribute-23100
END:VEVENT

END:VCALENDAR
