BEGIN:VCALENDAR
VERSION:2.0
PRODID:-//ChamberMaster//Event Calendar 2.0//EN
METHOD:PUBLISH
X-PUBLISHED-TTL:P3D
REFRESH-INTERVAL:P3D
CALSCALE:GREGORIAN
BEGIN:VEVENT
DTSTART:20230629T230000Z
DTEND:20230630T010000Z
X-MICROSOFT-CDO-ALLDAYEVENT:FALSE
SUMMARY:Music in the Park-Miranda & The M-80s
DESCRIPTION:Music in the Park- Miranda & The M-80s (music from the 1980's)
X-ALT-DESC;FMTTYPE=text/html:Music in the Park- Miranda &amp\; The M-80s (music from the 1980&#39\;s)
LOCATION:Irons Park West Branch Michigan
UID:e.1573.23099
SEQUENCE:3
DTSTAMP:20260425T113026Z
URL:https://www.wbacc.com/events/details/music-in-the-park-06-29-2023-23099
END:VEVENT

END:VCALENDAR
