BEGIN:VCALENDAR
VERSION:2.0
PRODID:-//ChamberMaster//Event Calendar 2.0//EN
METHOD:PUBLISH
X-PUBLISHED-TTL:P3D
REFRESH-INTERVAL:P3D
CALSCALE:GREGORIAN
BEGIN:VEVENT
DTSTART:20230721T220000Z
DTEND:20230722T010000Z
X-MICROSOFT-CDO-ALLDAYEVENT:FALSE
SUMMARY:Jeep Jam
DESCRIPTION:"This won't be your traditional car show\, \n\nthis one's JUST for Jeep's!  \n\n \n\nBring your Jeep - any year\, any style\, clean\, \n\ndirty or naked - we want to see it!  The 2 main blocks of downtown will be center stage of all things Jeep!  \n\n \n\nLIVE entertainment by AMF (All My Friends)!  They are sure to rock the block!"\n\nView this information at www.westbranchevents.com
X-ALT-DESC;FMTTYPE=text/html:<div>&quot\;This won&#39\;t be your traditional car show\,&nbsp\;</div>\n\n<div>this&nbsp\;one&#39\;s JUST for Jeep&#39\;s!&nbsp\;&nbsp\;</div>\n\n<div>&nbsp\;</div>\n\n<div>Bring your Jeep - any year\, any style\, clean\,&nbsp\;</div>\n\n<div>dirty or naked - we want to see it!&nbsp\; The 2 main blocks of downtown will be center stage of all things Jeep!&nbsp\;&nbsp\;</div>\n\n<div>&nbsp\;</div>\n\n<div>LIVE entertainment by AMF (All My Friends)!&nbsp\; They are sure to rock the block!&quot\;<br />\nView this information at www.westbranchevents.com</div>\n
LOCATION:Downtown West Branch
UID:e.1573.23323
SEQUENCE:3
DTSTAMP:20260425T112751Z
URL:https://www.wbacc.com/events/details/jeep-jam-23323
END:VEVENT

END:VCALENDAR
