BEGIN:VCALENDAR
VERSION:2.0
PRODID:-//ChamberMaster//Event Calendar 2.0//EN
METHOD:PUBLISH
X-PUBLISHED-TTL:P3D
REFRESH-INTERVAL:P3D
CALSCALE:GREGORIAN
BEGIN:VEVENT
DTSTART:20230701T160000Z
DTEND:20230704T160000Z
X-MICROSOFT-CDO-ALLDAYEVENT:FALSE
SUMMARY:Independence Week at Made in the USA
DESCRIPTION:Made in the USA\, LLC is celebrating their first year in business. with 4 days of events and sales. \n\n1st Annual Cornhole tournament - Pre registration- Instant message\, at store or in person $30 per team\n\n\n\nFree hotdogs\, water\, balloons and bounce house see flyer.
X-ALT-DESC;FMTTYPE=text/html:Made in the USA\, LLC is celebrating their first year in business. with 4 days of events and sales.&nbsp\;<br />\n1st Annual Cornhole tournament - Pre registration- Instant message\, at store or in person $30 per team<br />\n<br />\nFree hotdogs\, water\, balloons and bounce house see flyer.&nbsp\;
LOCATION:2990 Cook Road in West Branch
UID:e.1573.23337
SEQUENCE:3
DTSTAMP:20260425T112937Z
URL:https://www.wbacc.com/events/details/independence-week-at-made-in-the-usa-23337
END:VEVENT

END:VCALENDAR
