BEGIN:VCALENDAR
VERSION:2.0
PRODID:-//ChamberMaster//Event Calendar 2.0//EN
METHOD:PUBLISH
X-PUBLISHED-TTL:P3D
REFRESH-INTERVAL:P3D
CALSCALE:GREGORIAN
BEGIN:VEVENT
DTSTART:20230704T220000Z
DTEND:20230704T220000Z
X-MICROSOFT-CDO-ALLDAYEVENT:FALSE
SUMMARY:Independance Day Parade
DESCRIPTION:The West Branch Area Chamber of Commerce and West Branch Visitors Bureau invites you to the Independence Day Parade on July 4th at 6 p.m.
X-ALT-DESC;FMTTYPE=text/html:The West Branch Area Chamber of Commerce and West Branch Visitors Bureau invites you to the Independence Day Parade on July 4th at 6 p.m.
LOCATION:Griffin down Houghton Ave to Eighth Street
UID:e.1573.23094
SEQUENCE:3
DTSTAMP:20260425T112746Z
URL:https://www.wbacc.com/events/details/independance-day-parade-23094
END:VEVENT

END:VCALENDAR
