BEGIN:VCALENDAR
VERSION:2.0
PRODID:-//ChamberMaster//Event Calendar 2.0//EN
METHOD:PUBLISH
X-PUBLISHED-TTL:P3D
REFRESH-INTERVAL:P3D
CALSCALE:GREGORIAN
BEGIN:VEVENT
DTSTART:20230719T213000Z
DTEND:20230719T230000Z
X-MICROSOFT-CDO-ALLDAYEVENT:FALSE
SUMMARY:Grow and Grill- Balance and You
DESCRIPTION:Grow & Grill Focuses on demonstrating the most nutritious foods that fuel your body and the best ways to grow and grill them at home. Topics covered include: outdoor cooking demonstrations\, healthy and balanced meals\, nutrition information\, growing foods\, and you get a chance to learn about and explore the teaching gardens at the Tolfree Wellness Park.
X-ALT-DESC;FMTTYPE=text/html:Grow &amp\; Grill Focuses on demonstrating the most nutritious foods that fuel your body and the best ways to grow and grill them at home. Topics covered include: outdoor cooking demonstrations\, healthy and balanced meals\, nutrition information\, growing foods\, and you get a chance to learn about and explore the teaching gardens at the Tolfree Wellness Park.
LOCATION:Tolfree Wellness Park Pavilion\, 2463 S. M-30 West Branch\, MI 48661
UID:e.1573.23339
SEQUENCE:3
DTSTAMP:20260425T113148Z
URL:https://www.wbacc.com/events/details/grow-and-grill-balance-and-you-23339
END:VEVENT

END:VCALENDAR
