BEGIN:VCALENDAR
VERSION:2.0
PRODID:-//ChamberMaster//Event Calendar 2.0//EN
METHOD:PUBLISH
X-PUBLISHED-TTL:P3D
REFRESH-INTERVAL:P3D
CALSCALE:GREGORIAN
BEGIN:VEVENT
DTSTART;VALUE=DATE:20150606
DTEND;VALUE=DATE:20150607
TRANSP:TRANSPARENT
X-MICROSOFT-CDO-ALLDAYEVENT:TRUE
SUMMARY:Gl Fly A Kite
DESCRIPTION:Kite man Jack is on hand to show off some of his larger kites in action plus free kites to the first 50 children.  Meet at the Ranch ball field at Rifle River Recreation Area.  Also free fishing today!
X-ALT-DESC;FMTTYPE=text/html:<div style="color: gray\;">Kite man Jack is on hand to show off some of his larger kites in action plus free kites to the first 50 children.&nbsp\; Meet at the Ranch ball field at Rifle River Recreation Area.&nbsp\; Also free fishing today!</div>\n
LOCATION:Ball field at Rifle River Recreation Area
UID:e.1573.4447
SEQUENCE:3
DTSTAMP:20260424T075343Z
URL:https://www.wbacc.com/events/details/gl-fly-a-kite-06-06-2015-4447
END:VEVENT

END:VCALENDAR
