BEGIN:VCALENDAR
VERSION:2.0
PRODID:-//ChamberMaster//Event Calendar 2.0//EN
METHOD:PUBLISH
X-PUBLISHED-TTL:P3D
REFRESH-INTERVAL:P3D
CALSCALE:GREGORIAN
BEGIN:VEVENT
DTSTART:20240731T123000Z
DTEND:20240731T150000Z
X-MICROSOFT-CDO-ALLDAYEVENT:FALSE
SUMMARY:Food Pantry Donation Days
DESCRIPTION:
X-ALT-DESC;FMTTYPE=text/html:
LOCATION:The garage behind the Trinity Episcopal Church 100 E. Houghton Ave.\, West Branch
UID:e.1573.28074
SEQUENCE:3
DTSTAMP:20260421T094722Z
URL:https://www.wbacc.com/events/details/food-pantry-donation-days-07-31-2024-28074
END:VEVENT

END:VCALENDAR
