BEGIN:VCALENDAR
VERSION:2.0
PRODID:-//ChamberMaster//Event Calendar 2.0//EN
METHOD:PUBLISH
X-PUBLISHED-TTL:P3D
REFRESH-INTERVAL:P3D
CALSCALE:GREGORIAN
BEGIN:VEVENT
DTSTART:20230710T210000Z
DTEND:20230710T220000Z
X-MICROSOFT-CDO-ALLDAYEVENT:FALSE
SUMMARY:Disabled American Veterans and Auxiliary
DESCRIPTION:
X-ALT-DESC;FMTTYPE=text/html:
LOCATION:VFW Post 3775 on South M-30 in West Branch
UID:e.1573.20407
SEQUENCE:3
DTSTAMP:20260425T113038Z
URL:https://www.wbacc.com/events/details/disabled-american-veterans-and-auxiliary-07-10-2023-20407
END:VEVENT

END:VCALENDAR
