BEGIN:VCALENDAR
VERSION:2.0
PRODID:-//ChamberMaster//Event Calendar 2.0//EN
METHOD:PUBLISH
X-PUBLISHED-TTL:P3D
REFRESH-INTERVAL:P3D
CALSCALE:GREGORIAN
BEGIN:VEVENT
DTSTART:20230702T180000Z
DTEND:20230702T220000Z
X-MICROSOFT-CDO-ALLDAYEVENT:FALSE
SUMMARY:Come Rock with Us
DESCRIPTION:Free Concert Sponsored by West Branch Antiques & Comics\, The Sweet life and Rose Valley Winery.
X-ALT-DESC;FMTTYPE=text/html:Free Concert Sponsored by West Branch Antiques &amp\; Comics\, The Sweet life and Rose Valley Winery.
LOCATION:West Branch Outlet Mall
UID:e.1573.23338
SEQUENCE:3
DTSTAMP:20260425T112748Z
URL:https://www.wbacc.com/events/details/come-rock-with-us-23338
END:VEVENT

END:VCALENDAR
