BEGIN:VCALENDAR
VERSION:2.0
PRODID:-//ChamberMaster//Event Calendar 2.0//EN
METHOD:PUBLISH
X-PUBLISHED-TTL:P3D
REFRESH-INTERVAL:P3D
CALSCALE:GREGORIAN
BEGIN:VEVENT
DTSTART:20230711T100000Z
DTEND:20230711T120000Z
X-MICROSOFT-CDO-ALLDAYEVENT:FALSE
SUMMARY:Christian Motorcycle Association
DESCRIPTION:6pm for food and fellowship\, 7pm business meeting at G's Pizzeria
X-ALT-DESC;FMTTYPE=text/html:6pm for food and fellowship\, 7pm business meeting at G&#39\;s Pizzeria
LOCATION:G's Pizzeria 200 W. Houghton Ave. in West Branch
UID:e.1573.20977
SEQUENCE:3
DTSTAMP:20260425T124431Z
URL:https://www.wbacc.com/events/details/christian-motorcycle-association-07-11-2023-20977
END:VEVENT

END:VCALENDAR
