BEGIN:VCALENDAR
VERSION:2.0
PRODID:-//ChamberMaster//Event Calendar 2.0//EN
METHOD:PUBLISH
X-PUBLISHED-TTL:P3D
REFRESH-INTERVAL:P3D
CALSCALE:GREGORIAN
BEGIN:VEVENT
DTSTART:20230603T120000Z
DTEND:20230603T170000Z
X-MICROSOFT-CDO-ALLDAYEVENT:FALSE
SUMMARY:41st Annual Fishing Derby
DESCRIPTION:41st Annual Fishing Derby. The Optimist Club seeds the river with 400+ Trout. \n\nAge Groups:\n\n3 to 6\n\n7 to 13
X-ALT-DESC;FMTTYPE=text/html:41st Annual Fishing Derby. The Optimist Club seeds the river with 400+ Trout.&nbsp\;<br />\nAge Groups:<br />\n3 to 6<br />\n7 to 13
LOCATION:Irons Park\, West Branch
UID:e.1573.23329
SEQUENCE:3
DTSTAMP:20260425T101936Z
URL:https://www.wbacc.com/events/details/41st-annual-fishing-derby-23329
END:VEVENT

END:VCALENDAR
